BEGIN:VCALENDAR
VERSION:2.0
PRODID:-//Eric&#039;s Aviaries - ECPv6.15.20//NONSGML v1.0//EN
CALSCALE:GREGORIAN
METHOD:PUBLISH
X-WR-CALNAME:Eric&#039;s Aviaries
X-ORIGINAL-URL:https://ericsaviaries.com
X-WR-CALDESC:Events for Eric&#039;s Aviaries
REFRESH-INTERVAL;VALUE=DURATION:PT1H
X-Robots-Tag:noindex
X-PUBLISHED-TTL:PT1H
BEGIN:VTIMEZONE
TZID:America/New_York
BEGIN:DAYLIGHT
TZOFFSETFROM:-0500
TZOFFSETTO:-0400
TZNAME:EDT
DTSTART:20240310T070000
END:DAYLIGHT
BEGIN:STANDARD
TZOFFSETFROM:-0400
TZOFFSETTO:-0500
TZNAME:EST
DTSTART:20241103T060000
END:STANDARD
BEGIN:DAYLIGHT
TZOFFSETFROM:-0500
TZOFFSETTO:-0400
TZNAME:EDT
DTSTART:20250309T070000
END:DAYLIGHT
BEGIN:STANDARD
TZOFFSETFROM:-0400
TZOFFSETTO:-0500
TZNAME:EST
DTSTART:20251102T060000
END:STANDARD
BEGIN:DAYLIGHT
TZOFFSETFROM:-0500
TZOFFSETTO:-0400
TZNAME:EDT
DTSTART:20260308T070000
END:DAYLIGHT
BEGIN:STANDARD
TZOFFSETFROM:-0400
TZOFFSETTO:-0500
TZNAME:EST
DTSTART:20261101T060000
END:STANDARD
END:VTIMEZONE
BEGIN:VEVENT
DTSTART;TZID=America/New_York:20250502T100000
DTEND;TZID=America/New_York:20250504T170000
DTSTAMP:20260422T044644
CREATED:20250314T174716Z
LAST-MODIFIED:20250314T180511Z
UID:1561-1746180000-1746378000@ericsaviaries.com
SUMMARY:Spring Crafts at Lyndhurst 2025
DESCRIPTION:
URL:https://ericsaviaries.com/event/spring-crafts-at-lyndhurst-2025/
LOCATION:Lyndhurst Mansion’s Greenhouse Grounds\, 635 South Broadway\, Tarrytown\, NY\, 10591\, United States
CATEGORIES:Outdoor
ATTACH;FMTTYPE=image/png:https://ericsaviaries.com/wp-content/uploads/2025/03/Lyndhurst-March-2025.png
END:VEVENT
END:VCALENDAR